BEGIN:VCALENDAR
PRODID: -//CFLIB.ORG//iCalUS()//EN
VERSION:2.0
METHOD:REQUEST
BEGIN:VTIMEZONE
BEGIN:STANDARD
DTSTART:20061101T020000
RRULE:FREQ=YEARLY;INTERVAL=1;BYDAY=1SU;BYMONTH=11
TZOFFSETFROM:-0400
TZOFFSETTO:-0500
TZNAME:Standard Time
END:STANDARD
BEGIN:DAYLIGHT
DTSTART:20060301T020000
RRULE:FREQ=YEARLY;INTERVAL=1;BYDAY=2SU;BYMONTH=3
TZOFFSETFROM:-0500
TZOFFSETTO:-0400
TZNAME:Daylight Savings Time
END:DAYLIGHT
END:VTIMEZONE
BEGIN:VEVENT
UID:1583131965857.CFLIB.ORG
ORGANIZER;CN=:MAILTO:
DTSTAMP:20200302T175245
DTSTART;TZID=Eastern Time:20200308T130000
DTEND;TZID=Eastern Time:20200308T133000
SUMMARY:KERLEYS COASTAL REAL ESTATE - OFI/OPEN HOME - 31 Cheshunt Street, POINT LONSDALE, 3225
LOCATION:31 Cheshunt Street, POINT LONSDALE, 3225
DESCRIPTION:OFI/OPEN HOME - 31 Cheshunt Street, POINT LONSDALE, 3225\n\nSunday 1:00PM-1:30PM\n\nClick the link for full listing information: http://www.kerleys.com.au?/property/3386176
PRIORITY:1
TRANSP:OPAQUE
CLASS:PUBLIC
BEGIN:VALARM
TRIGGER:-PT30M
ACTION:DISPLAY
DESCRIPTION:Reminder
END:VALARM
END:VEVENT
END:VCALENDAR 