BEGIN:VCALENDAR
PRODID: -//CFLIB.ORG//iCalUS()//EN
VERSION:2.0
METHOD:REQUEST
BEGIN:VTIMEZONE
BEGIN:STANDARD
DTSTART:20061101T020000
RRULE:FREQ=YEARLY;INTERVAL=1;BYDAY=1SU;BYMONTH=11
TZOFFSETFROM:-0400
TZOFFSETTO:-0500
TZNAME:Standard Time
END:STANDARD
BEGIN:DAYLIGHT
DTSTART:20060301T020000
RRULE:FREQ=YEARLY;INTERVAL=1;BYDAY=2SU;BYMONTH=3
TZOFFSETFROM:-0500
TZOFFSETTO:-0400
TZNAME:Daylight Savings Time
END:DAYLIGHT
END:VTIMEZONE
BEGIN:VEVENT
UID:1583131924710.CFLIB.ORG
ORGANIZER;CN=:MAILTO:
DTSTAMP:20200302T175204
DTSTART;TZID=Eastern Time:20200308T110000
DTEND;TZID=Eastern Time:20200308T113000
SUMMARY:KERLEYS COASTAL REAL ESTATE - OFI/OPEN HOME - 14 Bedggood Avenue, POINT LONSDALE, 3225
LOCATION:14 Bedggood Avenue, POINT LONSDALE, 3225
DESCRIPTION:OFI/OPEN HOME - 14 Bedggood Avenue, POINT LONSDALE, 3225\n\nSunday 11:00AM-11:30AM\n\nClick the link for full listing information: http://www.kerleys.com.au?/property/3391366
PRIORITY:1
TRANSP:OPAQUE
CLASS:PUBLIC
BEGIN:VALARM
TRIGGER:-PT30M
ACTION:DISPLAY
DESCRIPTION:Reminder
END:VALARM
END:VEVENT
END:VCALENDAR 